BEGIN:VCALENDAR
VERSION:2.0
PRODID:-//Semmer-Seite - ECPv6.15.20//NONSGML v1.0//EN
CALSCALE:GREGORIAN
METHOD:PUBLISH
X-ORIGINAL-URL:https://www.die-semmer.de
X-WR-CALDESC:Veranstaltungen für Semmer-Seite
REFRESH-INTERVAL;VALUE=DURATION:PT1H
X-Robots-Tag:noindex
X-PUBLISHED-TTL:PT1H
BEGIN:VTIMEZONE
TZID:Europe/Berlin
BEGIN:DAYLIGHT
TZOFFSETFROM:+0100
TZOFFSETTO:+0200
TZNAME:CEST
DTSTART:20250330T010000
END:DAYLIGHT
BEGIN:STANDARD
TZOFFSETFROM:+0200
TZOFFSETTO:+0100
TZNAME:CET
DTSTART:20251026T010000
END:STANDARD
BEGIN:DAYLIGHT
TZOFFSETFROM:+0100
TZOFFSETTO:+0200
TZNAME:CEST
DTSTART:20260329T010000
END:DAYLIGHT
BEGIN:STANDARD
TZOFFSETFROM:+0200
TZOFFSETTO:+0100
TZNAME:CET
DTSTART:20261025T010000
END:STANDARD
BEGIN:DAYLIGHT
TZOFFSETFROM:+0100
TZOFFSETTO:+0200
TZNAME:CEST
DTSTART:20270328T010000
END:DAYLIGHT
BEGIN:STANDARD
TZOFFSETFROM:+0200
TZOFFSETTO:+0100
TZNAME:CET
DTSTART:20271031T010000
END:STANDARD
END:VTIMEZONE
BEGIN:VEVENT
DTSTART;TZID=Europe/Berlin:20260607T180000
DTEND;TZID=Europe/Berlin:20260607T180000
DTSTAMP:20260423T211044
CREATED:20260202T144250Z
LAST-MODIFIED:20260202T151143Z
UID:7155-1780855200-1780855200@www.die-semmer.de
SUMMARY:Pilger-Gottesdienst
DESCRIPTION:
URL:https://www.die-semmer.de/event/pilger-gottesdienst-2/
LOCATION:Kirche
END:VEVENT
BEGIN:VEVENT
DTSTART;TZID=Europe/Berlin:20260613T000000
DTEND;TZID=Europe/Berlin:20260613T000000
DTSTAMP:20260423T211044
CREATED:20260202T144250Z
LAST-MODIFIED:20260202T151143Z
UID:7156-1781308800-1781308800@www.die-semmer.de
SUMMARY:Sommernachtfest
DESCRIPTION:
URL:https://www.die-semmer.de/event/sommernachtfest-5/
LOCATION:Feuerwehrplatz
END:VEVENT
BEGIN:VEVENT
DTSTART;TZID=Europe/Berlin:20260614T000000
DTEND;TZID=Europe/Berlin:20260614T000000
DTSTAMP:20260423T211044
CREATED:20260202T144303Z
LAST-MODIFIED:20260202T151158Z
UID:7157-1781395200-1781395200@www.die-semmer.de
SUMMARY:Sommernachtfest
DESCRIPTION:
URL:https://www.die-semmer.de/event/sommernachtfest-6/
LOCATION:Feuerwehrplatz
END:VEVENT
BEGIN:VEVENT
DTSTART;TZID=Europe/Berlin:20260619T000000
DTEND;TZID=Europe/Berlin:20260619T000000
DTSTAMP:20260423T211044
CREATED:20260421T225817Z
LAST-MODIFIED:20260421T225818Z
UID:7527-1781827200-1781827200@www.die-semmer.de
SUMMARY:65 Jahre Fußball beim TV Semd
DESCRIPTION:
URL:https://www.die-semmer.de/event/65-jahre-fussball-beim-tv-semd/
LOCATION:Sportgelände
END:VEVENT
BEGIN:VEVENT
DTSTART;TZID=Europe/Berlin:20260620T000000
DTEND;TZID=Europe/Berlin:20260620T000000
DTSTAMP:20260423T211044
CREATED:20260421T230510Z
LAST-MODIFIED:20260421T230511Z
UID:7530-1781913600-1781913600@www.die-semmer.de
SUMMARY:65 Jahre Fußball beim TV Semd
DESCRIPTION:
URL:https://www.die-semmer.de/event/65-jahre-fussball-beim-tv-semd-2/
LOCATION:Sportgelände
END:VEVENT
BEGIN:VEVENT
DTSTART;TZID=Europe/Berlin:20260621T000000
DTEND;TZID=Europe/Berlin:20260621T000000
DTSTAMP:20260423T211044
CREATED:20260202T144304Z
LAST-MODIFIED:20260202T151158Z
UID:7158-1782000000-1782000000@www.die-semmer.de
SUMMARY:Sonntagskaffee
DESCRIPTION:
URL:https://www.die-semmer.de/event/sonntagskaffee-14/
LOCATION:Gemeindehaus
END:VEVENT
BEGIN:VEVENT
DTSTART;TZID=Europe/Berlin:20260621T000000
DTEND;TZID=Europe/Berlin:20260621T000000
DTSTAMP:20260423T211044
CREATED:20260421T230626Z
LAST-MODIFIED:20260421T230628Z
UID:7532-1782000000-1782000000@www.die-semmer.de
SUMMARY:65 Jahre Fußball beim TV Semd
DESCRIPTION:
URL:https://www.die-semmer.de/event/65-jahre-fussball-beim-tv-semd-3/
LOCATION:Sportgelände
END:VEVENT
BEGIN:VEVENT
DTSTART;TZID=Europe/Berlin:20260623T000000
DTEND;TZID=Europe/Berlin:20260623T000000
DTSTAMP:20260423T211044
CREATED:20260202T144304Z
LAST-MODIFIED:20260202T151158Z
UID:7159-1782172800-1782172800@www.die-semmer.de
SUMMARY:Seniorennachmittag zur Erdbeerzeit
DESCRIPTION:
URL:https://www.die-semmer.de/event/seniorennachmittag-zur-erdbeerzeit-2/
LOCATION:Gemeindehaus
END:VEVENT
BEGIN:VEVENT
DTSTART;TZID=Europe/Berlin:20260627T000000
DTEND;TZID=Europe/Berlin:20260627T000000
DTSTAMP:20260423T211044
CREATED:20260202T143136Z
LAST-MODIFIED:20260202T151158Z
UID:7033-1782518400-1782518400@www.die-semmer.de
SUMMARY:Gottesdienst zum Beginn der Sommerkirche
DESCRIPTION:
URL:https://www.die-semmer.de/event/gottesdienst-zum-beginn-der-sommerkirche/
LOCATION:Kirche u. Kirchgarten
END:VEVENT
END:VCALENDAR