BEGIN:VCALENDAR
VERSION:2.0
PRODID:-//Semmer-Seite - ECPv6.15.20//NONSGML v1.0//EN
CALSCALE:GREGORIAN
METHOD:PUBLISH
X-WR-CALNAME:Semmer-Seite
X-ORIGINAL-URL:https://www.die-semmer.de
X-WR-CALDESC:Veranstaltungen für Semmer-Seite
REFRESH-INTERVAL;VALUE=DURATION:PT1H
X-Robots-Tag:noindex
X-PUBLISHED-TTL:PT1H
BEGIN:VTIMEZONE
TZID:Europe/Berlin
BEGIN:DAYLIGHT
TZOFFSETFROM:+0100
TZOFFSETTO:+0200
TZNAME:CEST
DTSTART:20250330T010000
END:DAYLIGHT
BEGIN:STANDARD
TZOFFSETFROM:+0200
TZOFFSETTO:+0100
TZNAME:CET
DTSTART:20251026T010000
END:STANDARD
BEGIN:DAYLIGHT
TZOFFSETFROM:+0100
TZOFFSETTO:+0200
TZNAME:CEST
DTSTART:20260329T010000
END:DAYLIGHT
BEGIN:STANDARD
TZOFFSETFROM:+0200
TZOFFSETTO:+0100
TZNAME:CET
DTSTART:20261025T010000
END:STANDARD
BEGIN:DAYLIGHT
TZOFFSETFROM:+0100
TZOFFSETTO:+0200
TZNAME:CEST
DTSTART:20270328T010000
END:DAYLIGHT
BEGIN:STANDARD
TZOFFSETFROM:+0200
TZOFFSETTO:+0100
TZNAME:CET
DTSTART:20271031T010000
END:STANDARD
END:VTIMEZONE
BEGIN:VEVENT
DTSTART;TZID=Europe/Berlin:20260508T000000
DTEND;TZID=Europe/Berlin:20260508T000000
DTSTAMP:20260423T200459
CREATED:20260202T144149Z
LAST-MODIFIED:20260202T231754Z
UID:7148-1778198400-1778198400@www.die-semmer.de
SUMMARY:Mofatreffen
DESCRIPTION:
URL:https://www.die-semmer.de/event/mofatreffen-8/
LOCATION:Sportgelände
END:VEVENT
BEGIN:VEVENT
DTSTART;TZID=Europe/Berlin:20260509T000000
DTEND;TZID=Europe/Berlin:20260509T000000
DTSTAMP:20260423T200459
CREATED:20260202T144150Z
LAST-MODIFIED:20260202T231549Z
UID:7149-1778284800-1778284800@www.die-semmer.de
SUMMARY:Mofatreffen
DESCRIPTION:
URL:https://www.die-semmer.de/event/mofatreffen-9/
LOCATION:Sportgelände
END:VEVENT
BEGIN:VEVENT
DTSTART;TZID=Europe/Berlin:20260510T000000
DTEND;TZID=Europe/Berlin:20260510T000000
DTSTAMP:20260423T200459
CREATED:20260202T144151Z
LAST-MODIFIED:20260202T231518Z
UID:7150-1778371200-1778371200@www.die-semmer.de
SUMMARY:Mofatreffen
DESCRIPTION:
URL:https://www.die-semmer.de/event/mofatreffen-10/
LOCATION:Sportgelände
END:VEVENT
BEGIN:VEVENT
DTSTART;TZID=Europe/Berlin:20260514T100000
DTEND;TZID=Europe/Berlin:20260514T180000
DTSTAMP:20260423T200459
CREATED:20260331T131347Z
LAST-MODIFIED:20260331T131954Z
UID:7504-1778752800-1778781600@www.die-semmer.de
SUMMARY:Tag der offenen Tür im und ums Heimatheim
DESCRIPTION:
URL:https://www.die-semmer.de/event/tag-der-offenen-tuer-im-und-ums-heimatheim/
LOCATION:Heimatheim (ehem. Anglerheim)\, E.-Reuter-Str. 26a\, Groß-Umstadt/Semd\, 64823
END:VEVENT
BEGIN:VEVENT
DTSTART;TZID=Europe/Berlin:20260517T000000
DTEND;TZID=Europe/Berlin:20260517T000000
DTSTAMP:20260423T200459
CREATED:20260202T144249Z
LAST-MODIFIED:20260202T151143Z
UID:7153-1778976000-1778976000@www.die-semmer.de
SUMMARY:Sonntagskaffee
DESCRIPTION:
URL:https://www.die-semmer.de/event/sonntagskaffee-13/
LOCATION:Gemeindehaus
END:VEVENT
BEGIN:VEVENT
DTSTART;TZID=Europe/Berlin:20260524T000000
DTEND;TZID=Europe/Berlin:20260524T000000
DTSTAMP:20260423T200459
CREATED:20260202T144249Z
LAST-MODIFIED:20260202T151143Z
UID:7154-1779580800-1779580800@www.die-semmer.de
SUMMARY:Jubelkonfirmation
DESCRIPTION:
URL:https://www.die-semmer.de/event/jubelkonfirmation-3/
LOCATION:Kirche
END:VEVENT
END:VCALENDAR