BEGIN:VCALENDAR
VERSION:2.0
PRODID:-//Semmer-Seite - ECPv6.15.20//NONSGML v1.0//EN
CALSCALE:GREGORIAN
METHOD:PUBLISH
X-WR-CALNAME:Semmer-Seite
X-ORIGINAL-URL:https://www.die-semmer.de
X-WR-CALDESC:Veranstaltungen für Semmer-Seite
REFRESH-INTERVAL;VALUE=DURATION:PT1H
X-Robots-Tag:noindex
X-PUBLISHED-TTL:PT1H
BEGIN:VTIMEZONE
TZID:Europe/Berlin
BEGIN:DAYLIGHT
TZOFFSETFROM:+0100
TZOFFSETTO:+0200
TZNAME:CEST
DTSTART:20250330T010000
END:DAYLIGHT
BEGIN:STANDARD
TZOFFSETFROM:+0200
TZOFFSETTO:+0100
TZNAME:CET
DTSTART:20251026T010000
END:STANDARD
BEGIN:DAYLIGHT
TZOFFSETFROM:+0100
TZOFFSETTO:+0200
TZNAME:CEST
DTSTART:20260329T010000
END:DAYLIGHT
BEGIN:STANDARD
TZOFFSETFROM:+0200
TZOFFSETTO:+0100
TZNAME:CET
DTSTART:20261025T010000
END:STANDARD
BEGIN:DAYLIGHT
TZOFFSETFROM:+0100
TZOFFSETTO:+0200
TZNAME:CEST
DTSTART:20270328T010000
END:DAYLIGHT
BEGIN:STANDARD
TZOFFSETFROM:+0200
TZOFFSETTO:+0100
TZNAME:CET
DTSTART:20271031T010000
END:STANDARD
END:VTIMEZONE
BEGIN:VEVENT
DTSTART;TZID=Europe/Berlin:20260305T000000
DTEND;TZID=Europe/Berlin:20260305T000000
DTSTAMP:20260423T195829
CREATED:20260202T144119Z
LAST-MODIFIED:20260202T151058Z
UID:7142-1772668800-1772668800@www.die-semmer.de
SUMMARY:Vereinsschießen jeweils donnerstags bis 26.03.
DESCRIPTION:
URL:https://www.die-semmer.de/event/vereinsschiessen-jeweils-donnerstags-bis-26-03-2/
LOCATION:Schützenhaus
END:VEVENT
BEGIN:VEVENT
DTSTART;TZID=Europe/Berlin:20260322T000000
DTEND;TZID=Europe/Berlin:20260322T000000
DTSTAMP:20260423T195829
CREATED:20260202T144120Z
LAST-MODIFIED:20260202T151058Z
UID:7143-1774137600-1774137600@www.die-semmer.de
SUMMARY:Sonntagskaffee
DESCRIPTION:
URL:https://www.die-semmer.de/event/sonntagskaffee-11/
LOCATION:Gemeindehaus
END:VEVENT
BEGIN:VEVENT
DTSTART;TZID=Europe/Berlin:20260322T100000
DTEND;TZID=Europe/Berlin:20260322T100000
DTSTAMP:20260423T195830
CREATED:20260202T144121Z
LAST-MODIFIED:20260202T151058Z
UID:7144-1774173600-1774173600@www.die-semmer.de
SUMMARY:Konfirmation
DESCRIPTION:
URL:https://www.die-semmer.de/event/konfirmation-4/
LOCATION:Stadtkirche Gr.-Umstadt
END:VEVENT
BEGIN:VEVENT
DTSTART;TZID=Europe/Berlin:20260329T000000
DTEND;TZID=Europe/Berlin:20260329T000000
DTSTAMP:20260423T195830
CREATED:20260202T143048Z
LAST-MODIFIED:20260202T151113Z
UID:7015-1774742400-1774742400@www.die-semmer.de
SUMMARY:Ostereierschießen
DESCRIPTION:
URL:https://www.die-semmer.de/event/ostereierschiessen/
LOCATION:Schützenhaus
END:VEVENT
BEGIN:VEVENT
DTSTART;TZID=Europe/Berlin:20260330T000000
DTEND;TZID=Europe/Berlin:20260330T000000
DTSTAMP:20260423T195830
CREATED:20260202T143049Z
LAST-MODIFIED:20260202T151113Z
UID:7016-1774828800-1774828800@www.die-semmer.de
SUMMARY:FFH – Fußballschule / Mädchencamp bis 02.04.
DESCRIPTION:
URL:https://www.die-semmer.de/event/ffh-fussballschule-maedchencamp-bis-02-04/
LOCATION:Sportgelände
END:VEVENT
END:VCALENDAR