BEGIN:VCALENDAR
VERSION:2.0
PRODID:-//Semmer-Seite - ECPv6.15.20//NONSGML v1.0//EN
CALSCALE:GREGORIAN
METHOD:PUBLISH
X-WR-CALNAME:Semmer-Seite
X-ORIGINAL-URL:https://www.die-semmer.de
X-WR-CALDESC:Veranstaltungen für Semmer-Seite
REFRESH-INTERVAL;VALUE=DURATION:PT1H
X-Robots-Tag:noindex
X-PUBLISHED-TTL:PT1H
BEGIN:VTIMEZONE
TZID:Europe/Berlin
BEGIN:DAYLIGHT
TZOFFSETFROM:+0100
TZOFFSETTO:+0200
TZNAME:CEST
DTSTART:20240331T010000
END:DAYLIGHT
BEGIN:STANDARD
TZOFFSETFROM:+0200
TZOFFSETTO:+0100
TZNAME:CET
DTSTART:20241027T010000
END:STANDARD
BEGIN:DAYLIGHT
TZOFFSETFROM:+0100
TZOFFSETTO:+0200
TZNAME:CEST
DTSTART:20250330T010000
END:DAYLIGHT
BEGIN:STANDARD
TZOFFSETFROM:+0200
TZOFFSETTO:+0100
TZNAME:CET
DTSTART:20251026T010000
END:STANDARD
BEGIN:DAYLIGHT
TZOFFSETFROM:+0100
TZOFFSETTO:+0200
TZNAME:CEST
DTSTART:20260329T010000
END:DAYLIGHT
BEGIN:STANDARD
TZOFFSETFROM:+0200
TZOFFSETTO:+0100
TZNAME:CET
DTSTART:20261025T010000
END:STANDARD
END:VTIMEZONE
BEGIN:VEVENT
DTSTART;TZID=Europe/Berlin:20251002T000000
DTEND;TZID=Europe/Berlin:20251002T000000
DTSTAMP:20260424T013419
CREATED:20250605T152957Z
LAST-MODIFIED:20250605T152957Z
UID:4074-1759363200-1759363200@www.die-semmer.de
SUMMARY:Semmer Wiesen beim TV Semd
DESCRIPTION:
URL:https://www.die-semmer.de/event/semmer-wiesen-beim-tv-semd-5/
LOCATION:Mehrzweckhalle
END:VEVENT
BEGIN:VEVENT
DTSTART;TZID=Europe/Berlin:20251003T000000
DTEND;TZID=Europe/Berlin:20251003T000000
DTSTAMP:20260424T013419
CREATED:20250605T152957Z
LAST-MODIFIED:20250605T152957Z
UID:4075-1759449600-1759449600@www.die-semmer.de
SUMMARY:Semmer Wiesen beim TV Semd
DESCRIPTION:
URL:https://www.die-semmer.de/event/semmer-wiesen-beim-tv-semd-6/
LOCATION:Mehrzweckhalle
END:VEVENT
BEGIN:VEVENT
DTSTART;TZID=Europe/Berlin:20251004T000000
DTEND;TZID=Europe/Berlin:20251004T000000
DTSTAMP:20260424T013419
CREATED:20250605T152958Z
LAST-MODIFIED:20250605T152958Z
UID:4076-1759536000-1759536000@www.die-semmer.de
SUMMARY:Semmer Wiesen beim TV Semd
DESCRIPTION:
URL:https://www.die-semmer.de/event/semmer-wiesen-beim-tv-semd-7/
LOCATION:Mehrzweckhalle
END:VEVENT
BEGIN:VEVENT
DTSTART;TZID=Europe/Berlin:20251005T000000
DTEND;TZID=Europe/Berlin:20251005T000000
DTSTAMP:20260424T013419
CREATED:20250605T152958Z
LAST-MODIFIED:20250605T152958Z
UID:4077-1759622400-1759622400@www.die-semmer.de
SUMMARY:Semmer Wiesen beim TV Semd
DESCRIPTION:
URL:https://www.die-semmer.de/event/semmer-wiesen-beim-tv-semd-8/
LOCATION:Mehrzweckhalle
END:VEVENT
BEGIN:VEVENT
DTSTART;TZID=Europe/Berlin:20251028T000000
DTEND;TZID=Europe/Berlin:20251028T000000
DTSTAMP:20260424T013419
CREATED:20250605T152958Z
LAST-MODIFIED:20250605T152958Z
UID:4078-1761609600-1761609600@www.die-semmer.de
SUMMARY:Gemeinsames Kürbisschnitzen
DESCRIPTION:
URL:https://www.die-semmer.de/event/gemeinsames-kuerbisschnitzen/
LOCATION:Gemeindehaus
END:VEVENT
BEGIN:VEVENT
DTSTART;TZID=Europe/Berlin:20251031T000000
DTEND;TZID=Europe/Berlin:20251031T000000
DTSTAMP:20260424T013419
CREATED:20250605T153013Z
LAST-MODIFIED:20250605T153013Z
UID:4079-1761868800-1761868800@www.die-semmer.de
SUMMARY:Luthers Kneipe
DESCRIPTION:
URL:https://www.die-semmer.de/event/luthers-kneipe/
LOCATION:Kirche
END:VEVENT
END:VCALENDAR