BEGIN:VCALENDAR
VERSION:2.0
PRODID:-//Semmer-Seite - ECPv6.15.20//NONSGML v1.0//EN
CALSCALE:GREGORIAN
METHOD:PUBLISH
X-ORIGINAL-URL:https://www.die-semmer.de
X-WR-CALDESC:Veranstaltungen für Semmer-Seite
REFRESH-INTERVAL;VALUE=DURATION:PT1H
X-Robots-Tag:noindex
X-PUBLISHED-TTL:PT1H
BEGIN:VTIMEZONE
TZID:Europe/Berlin
BEGIN:DAYLIGHT
TZOFFSETFROM:+0100
TZOFFSETTO:+0200
TZNAME:CEST
DTSTART:20240331T010000
END:DAYLIGHT
BEGIN:STANDARD
TZOFFSETFROM:+0200
TZOFFSETTO:+0100
TZNAME:CET
DTSTART:20241027T010000
END:STANDARD
BEGIN:DAYLIGHT
TZOFFSETFROM:+0100
TZOFFSETTO:+0200
TZNAME:CEST
DTSTART:20250330T010000
END:DAYLIGHT
BEGIN:STANDARD
TZOFFSETFROM:+0200
TZOFFSETTO:+0100
TZNAME:CET
DTSTART:20251026T010000
END:STANDARD
BEGIN:DAYLIGHT
TZOFFSETFROM:+0100
TZOFFSETTO:+0200
TZNAME:CEST
DTSTART:20260329T010000
END:DAYLIGHT
BEGIN:STANDARD
TZOFFSETFROM:+0200
TZOFFSETTO:+0100
TZNAME:CET
DTSTART:20261025T010000
END:STANDARD
END:VTIMEZONE
BEGIN:VEVENT
DTSTART;TZID=Europe/Berlin:20250905T000000
DTEND;TZID=Europe/Berlin:20250905T000000
DTSTAMP:20260424T024452
CREATED:20250605T152927Z
LAST-MODIFIED:20250605T152927Z
UID:4066-1757030400-1757030400@www.die-semmer.de
SUMMARY:Semmer Kirb
DESCRIPTION:
URL:https://www.die-semmer.de/event/semmer-kirb-5/
LOCATION:Feuerwehrplatz
END:VEVENT
BEGIN:VEVENT
DTSTART;TZID=Europe/Berlin:20250906T000000
DTEND;TZID=Europe/Berlin:20250906T000000
DTSTAMP:20260424T024452
CREATED:20250605T152928Z
LAST-MODIFIED:20250605T152928Z
UID:4067-1757116800-1757116800@www.die-semmer.de
SUMMARY:Semmer Kirb
DESCRIPTION:
URL:https://www.die-semmer.de/event/semmer-kirb-6/
LOCATION:Feuerwehrplatz
END:VEVENT
BEGIN:VEVENT
DTSTART;TZID=Europe/Berlin:20250907T000000
DTEND;TZID=Europe/Berlin:20250907T000000
DTSTAMP:20260424T024452
CREATED:20250605T152928Z
LAST-MODIFIED:20250605T152928Z
UID:4068-1757203200-1757203200@www.die-semmer.de
SUMMARY:Semmer Kirb
DESCRIPTION:
URL:https://www.die-semmer.de/event/semmer-kirb-7/
LOCATION:Feuerwehrplatz
END:VEVENT
BEGIN:VEVENT
DTSTART;TZID=Europe/Berlin:20250908T000000
DTEND;TZID=Europe/Berlin:20250908T000000
DTSTAMP:20260424T024452
CREATED:20250605T152942Z
LAST-MODIFIED:20250605T152942Z
UID:4069-1757289600-1757289600@www.die-semmer.de
SUMMARY:Semmer Kirb
DESCRIPTION:
URL:https://www.die-semmer.de/event/semmer-kirb-8/
LOCATION:Feuerwehrplatz
END:VEVENT
BEGIN:VEVENT
DTSTART;TZID=Europe/Berlin:20250919T000000
DTEND;TZID=Europe/Berlin:20250919T000000
DTSTAMP:20260424T024452
CREATED:20250605T152942Z
LAST-MODIFIED:20250629T154342Z
UID:4070-1758240000-1758240000@www.die-semmer.de
SUMMARY:Winzerfest mit STC- Weinstand- bis 22.09.
DESCRIPTION:
URL:https://www.die-semmer.de/event/winzerfest-mit-stc-weinstand-bis-22-09-2/
LOCATION:Gg.-August-Zinn-Str.\, Groß-Umstadt
END:VEVENT
BEGIN:VEVENT
DTSTART;TZID=Europe/Berlin:20250927T000000
DTEND;TZID=Europe/Berlin:20250927T000000
DTSTAMP:20260424T024452
CREATED:20250605T152942Z
LAST-MODIFIED:20250605T152942Z
UID:4071-1758931200-1758931200@www.die-semmer.de
SUMMARY:Wochenende bei der Feuerwehr
DESCRIPTION:
URL:https://www.die-semmer.de/event/wochenende-bei-der-feuerwehr/
LOCATION:Feuerwehrplatz
END:VEVENT
BEGIN:VEVENT
DTSTART;TZID=Europe/Berlin:20250928T000000
DTEND;TZID=Europe/Berlin:20250928T000000
DTSTAMP:20260424T024452
CREATED:20250605T152943Z
LAST-MODIFIED:20250605T152943Z
UID:4072-1759017600-1759017600@www.die-semmer.de
SUMMARY:Wochenende bei der Feuerwehr
DESCRIPTION:
URL:https://www.die-semmer.de/event/wochenende-bei-der-feuerwehr-2/
LOCATION:Feuerwehrplatz
END:VEVENT
BEGIN:VEVENT
DTSTART;TZID=Europe/Berlin:20250928T000000
DTEND;TZID=Europe/Berlin:20250928T000000
DTSTAMP:20260424T024452
CREATED:20250605T152943Z
LAST-MODIFIED:20250605T152943Z
UID:4073-1759017600-1759017600@www.die-semmer.de
SUMMARY:„Ernte-Dank“ mal ganz anders\nLasst euch überraschen
DESCRIPTION:
URL:https://www.die-semmer.de/event/ernte-dank-mal-ganz-anderslasst-euch-ueberraschen/
END:VEVENT
END:VCALENDAR