BEGIN:VCALENDAR
VERSION:2.0
PRODID:-//Semmer-Seite - ECPv6.15.20//NONSGML v1.0//EN
CALSCALE:GREGORIAN
METHOD:PUBLISH
X-ORIGINAL-URL:https://www.die-semmer.de
X-WR-CALDESC:Veranstaltungen für Semmer-Seite
REFRESH-INTERVAL;VALUE=DURATION:PT1H
X-Robots-Tag:noindex
X-PUBLISHED-TTL:PT1H
BEGIN:VTIMEZONE
TZID:Europe/Berlin
BEGIN:DAYLIGHT
TZOFFSETFROM:+0100
TZOFFSETTO:+0200
TZNAME:CEST
DTSTART:20240331T010000
END:DAYLIGHT
BEGIN:STANDARD
TZOFFSETFROM:+0200
TZOFFSETTO:+0100
TZNAME:CET
DTSTART:20241027T010000
END:STANDARD
BEGIN:DAYLIGHT
TZOFFSETFROM:+0100
TZOFFSETTO:+0200
TZNAME:CEST
DTSTART:20250330T010000
END:DAYLIGHT
BEGIN:STANDARD
TZOFFSETFROM:+0200
TZOFFSETTO:+0100
TZNAME:CET
DTSTART:20251026T010000
END:STANDARD
BEGIN:DAYLIGHT
TZOFFSETFROM:+0100
TZOFFSETTO:+0200
TZNAME:CEST
DTSTART:20260329T010000
END:DAYLIGHT
BEGIN:STANDARD
TZOFFSETFROM:+0200
TZOFFSETTO:+0100
TZNAME:CET
DTSTART:20261025T010000
END:STANDARD
END:VTIMEZONE
BEGIN:VEVENT
DTSTART;TZID=Europe/Berlin:20250819T000000
DTEND;TZID=Europe/Berlin:20250819T000000
DTSTAMP:20260424T034137
CREATED:20250605T152920Z
LAST-MODIFIED:20250605T152920Z
UID:4061-1755561600-1755561600@www.die-semmer.de
SUMMARY:Schulanfangsgottesdienst
DESCRIPTION:
URL:https://www.die-semmer.de/event/schulanfangsgottesdienst-2/
LOCATION:Kirche
END:VEVENT
BEGIN:VEVENT
DTSTART;TZID=Europe/Berlin:20250828T000000
DTEND;TZID=Europe/Berlin:20250828T000000
DTSTAMP:20260424T034137
CREATED:20250605T152920Z
LAST-MODIFIED:20250605T152920Z
UID:4062-1756339200-1756339200@www.die-semmer.de
SUMMARY:Opeltreffen
DESCRIPTION:
URL:https://www.die-semmer.de/event/opeltreffen/
LOCATION:Sportgelände
END:VEVENT
BEGIN:VEVENT
DTSTART;TZID=Europe/Berlin:20250829T000000
DTEND;TZID=Europe/Berlin:20250829T000000
DTSTAMP:20260424T034137
CREATED:20250605T152920Z
LAST-MODIFIED:20250605T152920Z
UID:4063-1756425600-1756425600@www.die-semmer.de
SUMMARY:Opeltreffen
DESCRIPTION:
URL:https://www.die-semmer.de/event/opeltreffen-2/
LOCATION:Sportgelände
END:VEVENT
BEGIN:VEVENT
DTSTART;TZID=Europe/Berlin:20250830T000000
DTEND;TZID=Europe/Berlin:20250830T000000
DTSTAMP:20260424T034137
CREATED:20250605T152927Z
LAST-MODIFIED:20250605T152927Z
UID:4064-1756512000-1756512000@www.die-semmer.de
SUMMARY:Opeltreffen
DESCRIPTION:
URL:https://www.die-semmer.de/event/opeltreffen-3/
LOCATION:Sportgelände
END:VEVENT
BEGIN:VEVENT
DTSTART;TZID=Europe/Berlin:20250831T000000
DTEND;TZID=Europe/Berlin:20250831T000000
DTSTAMP:20260424T034137
CREATED:20250605T152927Z
LAST-MODIFIED:20250605T152927Z
UID:4065-1756598400-1756598400@www.die-semmer.de
SUMMARY:Opeltreffen
DESCRIPTION:
URL:https://www.die-semmer.de/event/opeltreffen-4/
LOCATION:Sportgelände
END:VEVENT
END:VCALENDAR