BEGIN:VCALENDAR
VERSION:2.0
PRODID:-//Semmer-Seite - ECPv6.15.20//NONSGML v1.0//EN
CALSCALE:GREGORIAN
METHOD:PUBLISH
X-ORIGINAL-URL:https://www.die-semmer.de
X-WR-CALDESC:Veranstaltungen für Semmer-Seite
REFRESH-INTERVAL;VALUE=DURATION:PT1H
X-Robots-Tag:noindex
X-PUBLISHED-TTL:PT1H
BEGIN:VTIMEZONE
TZID:Europe/Berlin
BEGIN:DAYLIGHT
TZOFFSETFROM:+0100
TZOFFSETTO:+0200
TZNAME:CEST
DTSTART:20240331T010000
END:DAYLIGHT
BEGIN:STANDARD
TZOFFSETFROM:+0200
TZOFFSETTO:+0100
TZNAME:CET
DTSTART:20241027T010000
END:STANDARD
BEGIN:DAYLIGHT
TZOFFSETFROM:+0100
TZOFFSETTO:+0200
TZNAME:CEST
DTSTART:20250330T010000
END:DAYLIGHT
BEGIN:STANDARD
TZOFFSETFROM:+0200
TZOFFSETTO:+0100
TZNAME:CET
DTSTART:20251026T010000
END:STANDARD
BEGIN:DAYLIGHT
TZOFFSETFROM:+0100
TZOFFSETTO:+0200
TZNAME:CEST
DTSTART:20260329T010000
END:DAYLIGHT
BEGIN:STANDARD
TZOFFSETFROM:+0200
TZOFFSETTO:+0100
TZNAME:CET
DTSTART:20261025T010000
END:STANDARD
BEGIN:DAYLIGHT
TZOFFSETFROM:+0100
TZOFFSETTO:+0200
TZNAME:CEST
DTSTART:20270328T010000
END:DAYLIGHT
BEGIN:STANDARD
TZOFFSETFROM:+0200
TZOFFSETTO:+0100
TZNAME:CET
DTSTART:20271031T010000
END:STANDARD
END:VTIMEZONE
BEGIN:VEVENT
DTSTART;TZID=Europe/Berlin:20260419T000000
DTEND;TZID=Europe/Berlin:20260419T000000
DTSTAMP:20260423T165027
CREATED:20260202T144152Z
LAST-MODIFIED:20260202T151128Z
UID:7151-1776556800-1776556800@www.die-semmer.de
SUMMARY:Sonntagskaffee
DESCRIPTION:
URL:https://www.die-semmer.de/event/sonntagskaffee-12/
LOCATION:Gemeindehaus
END:VEVENT
BEGIN:VEVENT
DTSTART;TZID=Europe/Berlin:20260406T000000
DTEND;TZID=Europe/Berlin:20260406T000000
DTSTAMP:20260423T165027
CREATED:20260202T144136Z
LAST-MODIFIED:20260202T153208Z
UID:7147-1775433600-1775433600@www.die-semmer.de
SUMMARY:Opel -Tagestreffen
DESCRIPTION:
URL:https://www.die-semmer.de/event/opel-tagestreffen-2/
LOCATION:Sportgelände
END:VEVENT
BEGIN:VEVENT
DTSTART;TZID=Europe/Berlin:20260405T060000
DTEND;TZID=Europe/Berlin:20260405T060000
DTSTAMP:20260423T165027
CREATED:20260202T144135Z
LAST-MODIFIED:20260202T151113Z
UID:7146-1775368800-1775368800@www.die-semmer.de
SUMMARY:Osternacht anschließend Osterfrühstück
DESCRIPTION:
URL:https://www.die-semmer.de/event/osternacht-anschliessend-osterfruehstueck-2/
LOCATION:Kirche u. Gemeindehaus
END:VEVENT
BEGIN:VEVENT
DTSTART;TZID=Europe/Berlin:20260403T150000
DTEND;TZID=Europe/Berlin:20260403T150000
DTSTAMP:20260423T165027
CREATED:20260202T144134Z
LAST-MODIFIED:20260202T151113Z
UID:7145-1775228400-1775228400@www.die-semmer.de
SUMMARY:Gottesdienst zur Todesstunde Jesu
DESCRIPTION:
URL:https://www.die-semmer.de/event/gottesdienst-zur-todesstunde-jesu-2/
LOCATION:Kirche
END:VEVENT
BEGIN:VEVENT
DTSTART;TZID=Europe/Berlin:20260330T000000
DTEND;TZID=Europe/Berlin:20260330T000000
DTSTAMP:20260423T165027
CREATED:20260202T143049Z
LAST-MODIFIED:20260202T151113Z
UID:7016-1774828800-1774828800@www.die-semmer.de
SUMMARY:FFH – Fußballschule / Mädchencamp bis 02.04.
DESCRIPTION:
URL:https://www.die-semmer.de/event/ffh-fussballschule-maedchencamp-bis-02-04/
LOCATION:Sportgelände
END:VEVENT
BEGIN:VEVENT
DTSTART;TZID=Europe/Berlin:20260329T000000
DTEND;TZID=Europe/Berlin:20260329T000000
DTSTAMP:20260423T165027
CREATED:20260202T143048Z
LAST-MODIFIED:20260202T151113Z
UID:7015-1774742400-1774742400@www.die-semmer.de
SUMMARY:Ostereierschießen
DESCRIPTION:
URL:https://www.die-semmer.de/event/ostereierschiessen/
LOCATION:Schützenhaus
END:VEVENT
BEGIN:VEVENT
DTSTART;TZID=Europe/Berlin:20260322T100000
DTEND;TZID=Europe/Berlin:20260322T100000
DTSTAMP:20260423T165027
CREATED:20260202T144121Z
LAST-MODIFIED:20260202T151058Z
UID:7144-1774173600-1774173600@www.die-semmer.de
SUMMARY:Konfirmation
DESCRIPTION:
URL:https://www.die-semmer.de/event/konfirmation-4/
LOCATION:Stadtkirche Gr.-Umstadt
END:VEVENT
BEGIN:VEVENT
DTSTART;TZID=Europe/Berlin:20260322T000000
DTEND;TZID=Europe/Berlin:20260322T000000
DTSTAMP:20260423T165027
CREATED:20260202T144120Z
LAST-MODIFIED:20260202T151058Z
UID:7143-1774137600-1774137600@www.die-semmer.de
SUMMARY:Sonntagskaffee
DESCRIPTION:
URL:https://www.die-semmer.de/event/sonntagskaffee-11/
LOCATION:Gemeindehaus
END:VEVENT
BEGIN:VEVENT
DTSTART;TZID=Europe/Berlin:20260305T000000
DTEND;TZID=Europe/Berlin:20260305T000000
DTSTAMP:20260423T165027
CREATED:20260202T144119Z
LAST-MODIFIED:20260202T151058Z
UID:7142-1772668800-1772668800@www.die-semmer.de
SUMMARY:Vereinsschießen jeweils donnerstags bis 26.03.
DESCRIPTION:
URL:https://www.die-semmer.de/event/vereinsschiessen-jeweils-donnerstags-bis-26-03-2/
LOCATION:Schützenhaus
END:VEVENT
BEGIN:VEVENT
DTSTART;TZID=Europe/Berlin:20260222T000000
DTEND;TZID=Europe/Berlin:20260222T000000
DTSTAMP:20260423T165027
CREATED:20260202T144118Z
LAST-MODIFIED:20260202T151058Z
UID:7141-1771718400-1771718400@www.die-semmer.de
SUMMARY:Sonntagskaffee
DESCRIPTION:
URL:https://www.die-semmer.de/event/sonntagskaffee-10/
LOCATION:Gemeindehaus
END:VEVENT
BEGIN:VEVENT
DTSTART;TZID=Europe/Berlin:20260216T000000
DTEND;TZID=Europe/Berlin:20260216T000000
DTSTAMP:20260423T165027
CREATED:20260202T144117Z
LAST-MODIFIED:20260202T151058Z
UID:7140-1771200000-1771200000@www.die-semmer.de
SUMMARY:Krautwurstessen am Rosenmontag
DESCRIPTION:
URL:https://www.die-semmer.de/event/krautwurstessen-am-rosenmontag-2/
LOCATION:STC Vereinsheim
END:VEVENT
BEGIN:VEVENT
DTSTART;TZID=Europe/Berlin:20260215T000000
DTEND;TZID=Europe/Berlin:20260215T000000
DTSTAMP:20260423T165027
CREATED:20260202T144116Z
LAST-MODIFIED:20260202T151056Z
UID:7139-1771113600-1771113600@www.die-semmer.de
SUMMARY:Kinder - Fastnachtsparty
DESCRIPTION:
URL:https://www.die-semmer.de/event/kinder-fastnachtsparty-3/
LOCATION:Mehrzweckhalle
END:VEVENT
BEGIN:VEVENT
DTSTART;TZID=Europe/Berlin:20260214T000000
DTEND;TZID=Europe/Berlin:20260214T000000
DTSTAMP:20260423T165027
CREATED:20260202T144115Z
LAST-MODIFIED:20260202T151056Z
UID:7138-1771027200-1771027200@www.die-semmer.de
SUMMARY:Semmer Nachmittagssitzung
DESCRIPTION:
URL:https://www.die-semmer.de/event/semmer-nachmittagssitzung-2/
LOCATION:Mehrzweckhalle
END:VEVENT
BEGIN:VEVENT
DTSTART;TZID=Europe/Berlin:20260213T000000
DTEND;TZID=Europe/Berlin:20260213T000000
DTSTAMP:20260423T165027
CREATED:20260202T144113Z
LAST-MODIFIED:20260202T151056Z
UID:7137-1770940800-1770940800@www.die-semmer.de
SUMMARY:Große Party Sitzung
DESCRIPTION:
URL:https://www.die-semmer.de/event/grosse-party-sitzung-2/
LOCATION:Mehrzweckhalle
END:VEVENT
BEGIN:VEVENT
DTSTART;TZID=Europe/Berlin:20260210T000000
DTEND;TZID=Europe/Berlin:20260210T000000
DTSTAMP:20260423T165027
CREATED:20260202T144113Z
LAST-MODIFIED:20260205T120532Z
UID:7136-1770681600-1770681600@www.die-semmer.de
SUMMARY:Seniorenfastnacht
DESCRIPTION:
URL:https://www.die-semmer.de/event/seniorenfastnacht-3/
LOCATION:Gemeindehaus
END:VEVENT
BEGIN:VEVENT
DTSTART;TZID=Europe/Berlin:20260201T180000
DTEND;TZID=Europe/Berlin:20260201T180000
DTSTAMP:20260423T165027
CREATED:20260202T144111Z
LAST-MODIFIED:20260202T151056Z
UID:7135-1769968800-1769968800@www.die-semmer.de
SUMMARY:Taizé Abend Gottesdienst
DESCRIPTION:
URL:https://www.die-semmer.de/event/taize-abend-gottesdienst-2/
LOCATION:Gemeindehaus
END:VEVENT
BEGIN:VEVENT
DTSTART;TZID=Europe/Berlin:20251231T234500
DTEND;TZID=Europe/Berlin:20260101T003000
DTSTAMP:20260423T165027
CREATED:20251212T002410Z
LAST-MODIFIED:20251213T154931Z
UID:6903-1767224700-1767227400@www.die-semmer.de
SUMMARY:Silvester Mitternachts-Lasershow
DESCRIPTION:In der Semder Kirche
URL:https://www.die-semmer.de/event/silvester-mitternachts-lasershow/
LOCATION:Kirche
END:VEVENT
BEGIN:VEVENT
DTSTART;TZID=Europe/Berlin:20251224T000000
DTEND;TZID=Europe/Berlin:20251224T000000
DTSTAMP:20260423T165027
CREATED:20250605T153042Z
LAST-MODIFIED:20251212T003316Z
UID:4090-1766534400-1766534400@www.die-semmer.de
SUMMARY:Christvesper
DESCRIPTION:
URL:https://www.die-semmer.de/event/christvesper-2/
LOCATION:Kirche
END:VEVENT
BEGIN:VEVENT
DTSTART;TZID=Europe/Berlin:20251224T000000
DTEND;TZID=Europe/Berlin:20251224T000000
DTSTAMP:20260423T165027
CREATED:20250605T153042Z
LAST-MODIFIED:20250605T153042Z
UID:4091-1766534400-1766534400@www.die-semmer.de
SUMMARY:Christmette
DESCRIPTION:
URL:https://www.die-semmer.de/event/christmette-2/
LOCATION:Kirche
END:VEVENT
BEGIN:VEVENT
DTSTART;TZID=Europe/Berlin:20251221T000000
DTEND;TZID=Europe/Berlin:20251221T000000
DTSTAMP:20260423T165027
CREATED:20250621T213943Z
LAST-MODIFIED:20250621T213943Z
UID:5182-1766275200-1766275200@www.die-semmer.de
SUMMARY:Lebendiger Adventskalender
DESCRIPTION:
URL:https://www.die-semmer.de/event/lebendiger-adventskalender-42/
LOCATION:Dieburger Str. 25
END:VEVENT
BEGIN:VEVENT
DTSTART;TZID=Europe/Berlin:20251220T000000
DTEND;TZID=Europe/Berlin:20251220T000000
DTSTAMP:20260423T165027
CREATED:20250621T213929Z
LAST-MODIFIED:20251213T155203Z
UID:5181-1766188800-1766188800@www.die-semmer.de
SUMMARY:Lebendiger Adventskalender
DESCRIPTION:
URL:https://www.die-semmer.de/event/lebendiger-adventskalender-41/
END:VEVENT
BEGIN:VEVENT
DTSTART;TZID=Europe/Berlin:20251219T000000
DTEND;TZID=Europe/Berlin:20251219T000000
DTSTAMP:20260423T165027
CREATED:20250621T213929Z
LAST-MODIFIED:20250621T213929Z
UID:5180-1766102400-1766102400@www.die-semmer.de
SUMMARY:Lebendiger Adventskalender
DESCRIPTION:
URL:https://www.die-semmer.de/event/lebendiger-adventskalender-40/
LOCATION:Oberendstr.3
END:VEVENT
BEGIN:VEVENT
DTSTART;TZID=Europe/Berlin:20251218T000000
DTEND;TZID=Europe/Berlin:20251218T000000
DTSTAMP:20260423T165027
CREATED:20250621T213929Z
LAST-MODIFIED:20251213T160900Z
UID:5179-1766016000-1766016000@www.die-semmer.de
SUMMARY:Lebendiger Adventskalender
DESCRIPTION:
URL:https://www.die-semmer.de/event/lebendiger-adventskalender-39/
LOCATION:Dieburger Str. 10AG
END:VEVENT
BEGIN:VEVENT
DTSTART;TZID=Europe/Berlin:20251217T000000
DTEND;TZID=Europe/Berlin:20251217T000000
DTSTAMP:20260423T165027
CREATED:20250621T213928Z
LAST-MODIFIED:20250621T213928Z
UID:5178-1765929600-1765929600@www.die-semmer.de
SUMMARY:Lebendiger Adventskalender
DESCRIPTION:
URL:https://www.die-semmer.de/event/lebendiger-adventskalender-38/
LOCATION:TV-Heim
END:VEVENT
BEGIN:VEVENT
DTSTART;TZID=Europe/Berlin:20251214T000000
DTEND;TZID=Europe/Berlin:20251214T000000
DTSTAMP:20260423T165027
CREATED:20250621T213915Z
LAST-MODIFIED:20250621T213915Z
UID:5176-1765670400-1765670400@www.die-semmer.de
SUMMARY:Lebendiger Adventskalender
DESCRIPTION:
URL:https://www.die-semmer.de/event/lebendiger-adventskalender-36/
LOCATION:E.-Reuter-Str. 6
END:VEVENT
BEGIN:VEVENT
DTSTART;TZID=Europe/Berlin:20251213T000000
DTEND;TZID=Europe/Berlin:20251213T000000
DTSTAMP:20260423T165027
CREATED:20250621T213915Z
LAST-MODIFIED:20250621T213915Z
UID:5175-1765584000-1765584000@www.die-semmer.de
SUMMARY:Lebendiger Adventskalender
DESCRIPTION:
URL:https://www.die-semmer.de/event/lebendiger-adventskalender-35/
LOCATION:Dieburger Str. 31 AG
END:VEVENT
BEGIN:VEVENT
DTSTART;TZID=Europe/Berlin:20251213T000000
DTEND;TZID=Europe/Berlin:20251213T000000
DTSTAMP:20260423T165027
CREATED:20250605T153042Z
LAST-MODIFIED:20251213T155301Z
UID:4089-1765584000-1765584000@www.die-semmer.de
SUMMARY:Hofweihnacht
DESCRIPTION:
URL:https://www.die-semmer.de/event/hofweihnacht-2/
LOCATION:Hof Mauß
END:VEVENT
BEGIN:VEVENT
DTSTART;TZID=Europe/Berlin:20251212T000000
DTEND;TZID=Europe/Berlin:20251212T000000
DTSTAMP:20260423T165027
CREATED:20250621T213914Z
LAST-MODIFIED:20250621T213914Z
UID:5174-1765497600-1765497600@www.die-semmer.de
SUMMARY:Lebendiger Adventskalender
DESCRIPTION:
URL:https://www.die-semmer.de/event/lebendiger-adventskalender-34/
LOCATION:Groß-Umstädter Str. 3
END:VEVENT
BEGIN:VEVENT
DTSTART;TZID=Europe/Berlin:20251211T000000
DTEND;TZID=Europe/Berlin:20251211T000000
DTSTAMP:20260423T165027
CREATED:20250621T213914Z
LAST-MODIFIED:20250621T213914Z
UID:5173-1765411200-1765411200@www.die-semmer.de
SUMMARY:Lebendiger Adventskalender
DESCRIPTION:
URL:https://www.die-semmer.de/event/lebendiger-adventskalender-33/
LOCATION:Hügelstr. 2
END:VEVENT
BEGIN:VEVENT
DTSTART;TZID=Europe/Berlin:20251210T000000
DTEND;TZID=Europe/Berlin:20251210T000000
DTSTAMP:20260423T165027
CREATED:20250621T213858Z
LAST-MODIFIED:20250621T213858Z
UID:5172-1765324800-1765324800@www.die-semmer.de
SUMMARY:Lebendiger Adventskalender
DESCRIPTION:
URL:https://www.die-semmer.de/event/lebendiger-adventskalender-32/
LOCATION:Otzbergstr. 14
END:VEVENT
END:VCALENDAR